BEGIN:VCALENDAR
VERSION:2.0
PRODID:-//CQUIPS+ - ECPv5.5.0//NONSGML v1.0//EN
CALSCALE:GREGORIAN
METHOD:PUBLISH
X-WR-CALNAME:CQUIPS+
X-ORIGINAL-URL:https://cquipsplus.ca
X-WR-CALDESC:Events for CQUIPS+
BEGIN:VTIMEZONE
TZID:America/Toronto
BEGIN:DAYLIGHT
TZOFFSETFROM:-0500
TZOFFSETTO:-0400
TZNAME:EDT
DTSTART:20230312T070000
END:DAYLIGHT
BEGIN:STANDARD
TZOFFSETFROM:-0400
TZOFFSETTO:-0500
TZNAME:EST
DTSTART:20231105T060000
END:STANDARD
END:VTIMEZONE
BEGIN:VEVENT
DTSTART;TZID=America/Toronto:20231106T213950
DTEND;TZID=America/Toronto:20231106T213950
DTSTAMP:20260424T050057
CREATED:20231106T213911Z
LAST-MODIFIED:20231106T213950Z
UID:6151-1699306790-1699306790@cquipsplus.ca
SUMMARY:Upcoming Masterclasses for 2024
DESCRIPTION:How to apply an equity lens to QI work\nProject management to keep QI initiatives on track\nMaking data easier to use for QI evaluation\nAddressing the climate crisis using QI tools and methods\nUsing SQUIRE to conduct and disseminate QI work\nPatient partnership to co-design QI initiatives\nDesign thinking methods for improvers\nImplementation science methods to expand the QI toolbox
URL:https://cquipsplus.ca/event/upcoming-masterclasses-for-2024/
CATEGORIES:Masterclasses
ATTACH;FMTTYPE=image/png:https://cquipsplus.ca/wp-content/uploads/2023/10/cquips_primaryverticallogolockup_rgb_blue.png
END:VEVENT
END:VCALENDAR